BEGIN:VCALENDAR
VERSION:2.0
PRODID:-//Sadika Femdom Club - ECPv6.15.18//NONSGML v1.0//EN
CALSCALE:GREGORIAN
METHOD:PUBLISH
X-WR-CALNAME:Sadika Femdom Club
X-ORIGINAL-URL:https://www.sadika.org/home
X-WR-CALDESC:Eventi per Sadika Femdom Club
REFRESH-INTERVAL;VALUE=DURATION:PT1H
X-Robots-Tag:noindex
X-PUBLISHED-TTL:PT1H
BEGIN:VTIMEZONE
TZID:Europe/Rome
BEGIN:DAYLIGHT
TZOFFSETFROM:+0100
TZOFFSETTO:+0200
TZNAME:CEST
DTSTART:20230326T010000
END:DAYLIGHT
BEGIN:STANDARD
TZOFFSETFROM:+0200
TZOFFSETTO:+0100
TZNAME:CET
DTSTART:20231029T010000
END:STANDARD
BEGIN:DAYLIGHT
TZOFFSETFROM:+0100
TZOFFSETTO:+0200
TZNAME:CEST
DTSTART:20240331T010000
END:DAYLIGHT
BEGIN:STANDARD
TZOFFSETFROM:+0200
TZOFFSETTO:+0100
TZNAME:CET
DTSTART:20241027T010000
END:STANDARD
BEGIN:DAYLIGHT
TZOFFSETFROM:+0100
TZOFFSETTO:+0200
TZNAME:CEST
DTSTART:20250330T010000
END:DAYLIGHT
BEGIN:STANDARD
TZOFFSETFROM:+0200
TZOFFSETTO:+0100
TZNAME:CET
DTSTART:20251026T010000
END:STANDARD
BEGIN:DAYLIGHT
TZOFFSETFROM:+0100
TZOFFSETTO:+0200
TZNAME:CEST
DTSTART:20260329T010000
END:DAYLIGHT
BEGIN:STANDARD
TZOFFSETFROM:+0200
TZOFFSETTO:+0100
TZNAME:CET
DTSTART:20261025T010000
END:STANDARD
BEGIN:DAYLIGHT
TZOFFSETFROM:+0100
TZOFFSETTO:+0200
TZNAME:CEST
DTSTART:20270328T010000
END:DAYLIGHT
BEGIN:STANDARD
TZOFFSETFROM:+0200
TZOFFSETTO:+0100
TZNAME:CET
DTSTART:20271031T010000
END:STANDARD
END:VTIMEZONE
BEGIN:VEVENT
DTSTART;TZID=Europe/Rome:20260319T170000
DTEND;TZID=Europe/Rome:20260319T200000
DTSTAMP:20260420T123922
CREATED:20260306T005436Z
LAST-MODIFIED:20260306T005436Z
UID:10000108-1773939600-1773950400@www.sadika.org
SUMMARY:MISTRESS ARMY Fitness Fetish Party
DESCRIPTION:Fitness Fetish Party\n\n\nQuattro Mistress\, quattro schiavi. Un equilibrio perfetto tra feticismo\, sottomissione e seduzione. \nGiovedì 19 Marzo\, nella nostra location privata di Cologno Monzese\, si terrà un esclusivo Fetish party organizzato e condotto dalle Mistress Hellste\, Sandra\, Miss V e Imperatrice Giulia \nL’evento sarà riservato a pochi adepti selezionati\, ammessi in rapporto 1:1 con le Mistress\, per garantire un’esperienza intensa e totalmente personalizzata. \n🔥 Tema della serata: Fitness Fetish\nAdorazione\, sottomissione\, trampling\, sitting\, worship\ne\, con rispetto assoluto dei limiti e uso di safeword. \nProgramma:\nParty – prima parte: dalle 17:00 alle 18:00\nParty – seconda parte: dalle 18:00 alle 19:00\nCena: dalle 19:00 alle 20:00 – noi ceniamo e per te\, avanzi ai nostri piedi. \nSCOPRI DI PIU’ E PRENOTA QUI:\n\n 
URL:https://www.sadika.org/home/events/mistress-army-fitness-fetish-party/
LOCATION:Black Whip Studio\, Viale Milano 7\, Cologno Monzese\, MI\, 20093\, Italia
CATEGORIES:Partners
ATTACH;FMTTYPE=image/jpeg:https://www.sadika.org/home/wp-content/uploads/2026/03/fly-1.jpg
ORGANIZER;CN="Mistress Army":MAILTO:mistressarmy@gmail.com
END:VEVENT
BEGIN:VEVENT
DTSTART;TZID=Europe/Rome:20260128T160000
DTEND;TZID=Europe/Rome:20260128T190000
DTSTAMP:20260420T123922
CREATED:20260110T112108Z
LAST-MODIFIED:20260114T103622Z
UID:10000105-1769616000-1769626800@www.sadika.org
SUMMARY:MISTRESS ARMY FEMDOM PARTY
DESCRIPTION:TUTTE le info QUI:\n\nMODULO GOOGLE\n 
URL:https://www.sadika.org/home/events/mistress-army-femdom-party/
LOCATION:Black Whip Studio\, Viale Milano 7\, Cologno Monzese\, MI\, 20093\, Italia
CATEGORIES:Partners
ATTACH;FMTTYPE=image/jpeg:https://www.sadika.org/home/wp-content/uploads/2026/01/fly-v0.1.jpg
ORGANIZER;CN="Mistress Army":MAILTO:mistressarmy@gmail.com
END:VEVENT
BEGIN:VEVENT
DTSTART;TZID=Europe/Rome:20260128T130000
DTEND;TZID=Europe/Rome:20260128T150000
DTSTAMP:20260420T123922
CREATED:20260110T111858Z
LAST-MODIFIED:20260114T103526Z
UID:10000104-1769605200-1769612400@www.sadika.org
SUMMARY:MISTRESS ARMY - VIDEO CASTING
DESCRIPTION:Tutte le Info QUI: \nMODULO GOOGLE\n 
URL:https://www.sadika.org/home/events/mistress-army-video-casting/
LOCATION:Black Whip Studio\, Viale Milano 7\, Cologno Monzese\, MI\, 20093\, Italia
CATEGORIES:Video Set
ATTACH;FMTTYPE=image/jpeg:https://www.sadika.org/home/wp-content/uploads/2026/01/fly-v0.1.jpg
ORGANIZER;CN="Mistress Army":MAILTO:mistressarmy@gmail.com
END:VEVENT
BEGIN:VEVENT
DTSTART;TZID=Europe/Rome:20250319T170000
DTEND;TZID=Europe/Rome:20250319T200000
DTSTAMP:20260420T123922
CREATED:20250307T173817Z
LAST-MODIFIED:20250307T173817Z
UID:10000071-1742403600-1742414400@www.sadika.org
SUMMARY:MISTRESS ARMY - INTERROGATORIO FEMDOM
DESCRIPTION:  \n \nRipartono gli eventi Fetish e Femdom di Mistress Army\n*L’evento non è organizzato da SADIKA. \nINTERROGATORIO FEMDOM\n\n\n3 ore di puro FEMDOM con 4 Dee d’eccezione \nEvento privato dedicato al BDSM FEMDOM\nUn gioco BDSM suggestivo\, dove verrai interrogato da 4 soldatesse bellissime e spietate\nSi giocheranno 3 manche nelle quali dovrai riuscire a custodire 3 segreti\, che le sadiche aguzine cercheranno di estorcerti. \n  \nMERCOLEDÌ 19 MARZO\nDALLE 21 ALLE 24 \nMistress Army events\nwww.MistressArmy.com\nmistressarmy@gmail.com \nMODULO DI PRENOTAZIONE \n  \n\n  \n\n  \n  \n  \n    
URL:https://www.sadika.org/home/events/mistress-army-interrogatorio-femdom/
LOCATION:Black Whip Studio\, Viale Milano 7\, Cologno Monzese\, MI\, 20093\, Italia
CATEGORIES:Partners
ATTACH;FMTTYPE=image/jpeg:https://www.sadika.org/home/wp-content/uploads/2025/03/2.jpg
ORGANIZER;CN="Mistress Army":MAILTO:mistressarmy@gmail.com
END:VEVENT
BEGIN:VEVENT
DTSTART;TZID=Europe/Rome:20250319T170000
DTEND;TZID=Europe/Rome:20250319T200000
DTSTAMP:20260420T123922
CREATED:20250307T173406Z
LAST-MODIFIED:20250307T184045Z
UID:10000070-1742403600-1742414400@www.sadika.org
SUMMARY:MISTRESS ARMY - FITNESS FETISH PARTY
DESCRIPTION:  \n \nRipartono gli eventi Fetish e Femdom di Mistress Army\n*L’evento non è organizzato da SADIKA. \nFITNESS FETISH PARTY\n\n\n3 ore di puro FETISH con 4 Dee d’eccezione \nEvento privato dedicato al FITNESS FETISH\,\ntrampling\, piedi\, calzini e ascelle sudate\, yoga & facesitting. \nMERCOLEDÌ 19 MARZO\nDALLE 17 ALLE 20 \nMistress Army events\nwww.MistressArmy.com\nmistressarmy@gmail.com \nMODULO DI PRENOTAZIONE \n  \n\n  \n\n  \n  \n  \n    
URL:https://www.sadika.org/home/events/mistress-army-feitness-fetish-party/
LOCATION:Black Whip Studio\, Viale Milano 7\, Cologno Monzese\, MI\, 20093\, Italia
CATEGORIES:Partners
ATTACH;FMTTYPE=image/jpeg:https://www.sadika.org/home/wp-content/uploads/2025/03/1.jpg
ORGANIZER;CN="Mistress Army":MAILTO:mistressarmy@gmail.com
END:VEVENT
BEGIN:VEVENT
DTSTART;TZID=Europe/Rome:20241030T170000
DTEND;TZID=Europe/Rome:20241030T200000
DTSTAMP:20260420T123922
CREATED:20241012T214907Z
LAST-MODIFIED:20241012T214907Z
UID:10000050-1730307600-1730318400@www.sadika.org
SUMMARY:MISTRESS ARMY - HALLOWEEN FEET
DESCRIPTION:  \n \nRipartono i pomeriggi Fetish e Femdom a cura di Mistress Army\n*L’evento non è organizzato da SADIKA. \nHALLOWEEN FEET\n\n\n3 ore di puro FETISH con 3 Dee d’eccezione \nEvento privato dedicato al trampling\, all’adorazione dei piede femminile e al facesitting. \nMERCOLEDÌ 30 OTTOBRE\nDALLE 17 ALLE 20\n3 Miss 3 Ore \nMistress Army events\nwww.MistressArmy.com\nmistressarmy@gmail.com \nMODULO DI PRENOTAZIONE \nWhatsApp: \nMiss Mea: 327 192 4588\nImperatrice Giulia375 515 1905\nMiss Hellste: 351 897 1288 \n\n  \n\n  \n  \n  \n    
URL:https://www.sadika.org/home/events/mistress-army-halloween-feet/
LOCATION:Black Whip Studio\, Viale Milano 7\, Cologno Monzese\, MI\, 20093\, Italia
CATEGORIES:Partners
ATTACH;FMTTYPE=image/jpeg:https://www.sadika.org/home/wp-content/uploads/2024/10/Army-30-10-24-v2.jpg
ORGANIZER;CN="Mistress Army":MAILTO:mistressarmy@gmail.com
END:VEVENT
BEGIN:VEVENT
DTSTART;TZID=Europe/Rome:20241023T170000
DTEND;TZID=Europe/Rome:20241023T200000
DTSTAMP:20260420T123922
CREATED:20241012T214435Z
LAST-MODIFIED:20241012T214543Z
UID:10000049-1729702800-1729713600@www.sadika.org
SUMMARY:MISTRESS ARMY - The GOLDEN HOUR
DESCRIPTION:  \n \nRipartono i pomeriggi Fetish e Femdom a cura di Mistress Army\n*L’evento non è organizzato da SADIKA. \nThe GOLDEN HOUR\n\nIl titolo non ha bisogno di spiegazioni: l’evento è dedicato ad una particolare pratica. \nSiamo tre ragazze cattive e perverse. \nDalle 17 alle 20 ci divertiremo ad usarvi come cessi umani e sputacchiere. \nOltre al buffet\, per i più ingordi\, la location sarà attrezzata a dungeon. \nAccetteremo\, previa prenotazione\, un numero limitato di partecipanti. \nPrestiamo particolare attenzione all’igiene e alla riservatezza. \nNon ti vergognare\, cesso\, lo sappiamo che hai già sete! \nMERCOLEDÌ 23 OTTOBRE\nDALLE 17 ALLE 20\n3 Miss 3 Ore \nMistress Army events\nwww.MistressArmy.com\nmistressarmy@gmail.com \nMODULO DI PRENOTAZIONE\n \nWhatsApp: \nImperatrice Giulia 375 515 1905\nMisstress Labelle 331 994 4703\nJennyfer Cruel 351 614 1112 \n\n  \n \n  \n    
URL:https://www.sadika.org/home/events/mistress-army-the-golden-hour/
LOCATION:Black Whip Studio\, Viale Milano 7\, Cologno Monzese\, MI\, 20093\, Italia
CATEGORIES:Partners
ATTACH;FMTTYPE=image/gif:https://www.sadika.org/home/wp-content/uploads/2024/10/Army-23-10-24.gif
ORGANIZER;CN="Mistress Army":MAILTO:mistressarmy@gmail.com
END:VEVENT
BEGIN:VEVENT
DTSTART;TZID=Europe/Rome:20241002T150000
DTEND;TZID=Europe/Rome:20241002T190000
DTSTAMP:20260420T123922
CREATED:20240914T130512Z
LAST-MODIFIED:20240928T154516Z
UID:10000043-1727881200-1727895600@www.sadika.org
SUMMARY:3 SERVANTS FOR 3 GODDESS
DESCRIPTION:  \n \nTRE SERVITORI PER TRE DEE\n3 SERVANTS FOR 3 GODDESS\n\nMercoledì 2 Ottobre- dalle 15 alle 19 – Milano MM2 Cologno Sud \n\nDea Samantha – Imperatrice Giulia – Mistress Labelle \nEvento Privato Speciale\nFemdom – BDSM . Fetish \nQui tutte le info:\nhttps://docs.google.com/forms/d/e/1FAIpQLSdwZf8wkdSYVoxmOYGbeb1Ku1gAA9nvfRqIQckIj4GbtT5hHQ/viewform?usp=pp_url&entry.604473941=SADIKA_WS \n\n  \n  \n \n  \n    
URL:https://www.sadika.org/home/events/3-servantsfor-3-goddess/
LOCATION:Black Whip Studio\, Viale Milano 7\, Cologno Monzese\, MI\, 20093\, Italia
CATEGORIES:Sadika Eventi
ATTACH;FMTTYPE=image/jpeg:https://www.sadika.org/home/wp-content/uploads/2024/09/fly2.jpeg
ORGANIZER;CN="Mistress Army":MAILTO:mistressarmy@gmail.com
END:VEVENT
BEGIN:VEVENT
DTSTART;TZID=Europe/Rome:20240925T150000
DTEND;TZID=Europe/Rome:20240925T190000
DTSTAMP:20260420T123922
CREATED:20240910T175752Z
LAST-MODIFIED:20240911T114954Z
UID:10000042-1727276400-1727290800@www.sadika.org
SUMMARY:FITNESS FETISH PARTY
DESCRIPTION:  \n \nFITNESS FETISH PARTY\nMercoledì 25 Settembre – dalle 15 alle 19 – Milano MM2 Cologno Sud \n \nRipartono i pomeriggi Fetish e Femdom a cura di Mistress Army\n \nORGANIZATRICI\nQuesto evento è organizzato da 4 Mistress \nImperatrice Giulia\nMiss Hellste \nMiss Labelle \nMistress Mea\nGIOCHI\nIl tema principale di questa festa è il Fitness Fetish.\nNoi saremo vestite con dei bellissimi completini fitness e tu sarai uno dei nostri schiavi.\nTi useremo come tappetino per i nostri esercizi\, come panca o sedia. Dovrai massaggiare i nostri piedi sudati \, oppure potrai lavarceli tu\, prima di adorarli. \nFaremo tanti giochi divertenti ed umilianti.\n \nREGOLE\n– Per ognuna di noi mistress presenti\, sarà ammesso al massimo uno slave\n– Ogni slave potrà prenotare la propria presenza per un’ora\, oppure per tutto il pomeriggio.\n– Tutte le mistress giocheranno con tutti gli slave\, quindi è un’occasione davvero ghiotta che non puoi di certo farti scappare.\n– Niente foto\, niente video\,. Solo persone pulite ed educate. Si gioca solo se si è d’accordo. Nessun obbligo per nessuno.\n \n \n🔗 Leggi i dettagli e prenota qui:\nhttps://docs.google.com/forms/d/e/1FAIpQLSec3evLg4VPX22w6tXWgsi3rz74OLMTdhuvMHZlaMBP9kgfTA/viewform?usp=pp_url&entry.604473941=SADIKA \n  \n  \n  \n \n  \n    
URL:https://www.sadika.org/home/events/fitness-fetish-party/
LOCATION:Black Whip Studio\, Viale Milano 7\, Cologno Monzese\, MI\, 20093\, Italia
CATEGORIES:Sadika Eventi
ATTACH;FMTTYPE=image/jpeg:https://www.sadika.org/home/wp-content/uploads/2024/09/3-1.jpg
ORGANIZER;CN="Mistress Army":MAILTO:mistressarmy@gmail.com
END:VEVENT
END:VCALENDAR