BEGIN:VCALENDAR
VERSION:2.0
PRODID:-//Sadika Femdom Club - ECPv6.15.18//NONSGML v1.0//EN
CALSCALE:GREGORIAN
METHOD:PUBLISH
X-WR-CALNAME:Sadika Femdom Club
X-ORIGINAL-URL:https://www.sadika.org/home
X-WR-CALDESC:Eventi per Sadika Femdom Club
REFRESH-INTERVAL;VALUE=DURATION:PT1H
X-Robots-Tag:noindex
X-PUBLISHED-TTL:PT1H
BEGIN:VTIMEZONE
TZID:Europe/Rome
BEGIN:DAYLIGHT
TZOFFSETFROM:+0100
TZOFFSETTO:+0200
TZNAME:CEST
DTSTART:20220327T010000
END:DAYLIGHT
BEGIN:STANDARD
TZOFFSETFROM:+0200
TZOFFSETTO:+0100
TZNAME:CET
DTSTART:20221030T010000
END:STANDARD
BEGIN:DAYLIGHT
TZOFFSETFROM:+0100
TZOFFSETTO:+0200
TZNAME:CEST
DTSTART:20230326T010000
END:DAYLIGHT
BEGIN:STANDARD
TZOFFSETFROM:+0200
TZOFFSETTO:+0100
TZNAME:CET
DTSTART:20231029T010000
END:STANDARD
BEGIN:DAYLIGHT
TZOFFSETFROM:+0100
TZOFFSETTO:+0200
TZNAME:CEST
DTSTART:20240331T010000
END:DAYLIGHT
BEGIN:STANDARD
TZOFFSETFROM:+0200
TZOFFSETTO:+0100
TZNAME:CET
DTSTART:20241027T010000
END:STANDARD
BEGIN:DAYLIGHT
TZOFFSETFROM:+0100
TZOFFSETTO:+0200
TZNAME:CEST
DTSTART:20250330T010000
END:DAYLIGHT
BEGIN:STANDARD
TZOFFSETFROM:+0200
TZOFFSETTO:+0100
TZNAME:CET
DTSTART:20251026T010000
END:STANDARD
END:VTIMEZONE
BEGIN:VEVENT
DTSTART;TZID=Europe/Rome:20240224T230000
DTEND;TZID=Europe/Rome:20240225T043000
DTSTAMP:20260420T212011
CREATED:20240203T134317Z
LAST-MODIFIED:20240223T174712Z
UID:10000011-1708815600-1708835400@www.sadika.org
SUMMARY:SADIKA FEMDOM PARTY with MISTRESS ARMY
DESCRIPTION:  \n \n  \nSADIKA FEMDOM PARTY\nwith MISTRESS ARMY\nSabato 24 Febbraio 2024 \nFetish – Femdom – BDSM – Feet – Trampling – Shibari \nCorsico – Milano \nDress-Code obbligatorio: Army – Fetish – BDSM – Cosplay –  (minimo) TOTAL BLACK \nLeggi i dettagli e prenota qui:\nhttps://docs.google.com/forms/d/e/1FAIpQLSdX0NhJh-uOEmElijPO5__8QRh5LgLjNuiZfSqaJOit9GVDcg/viewform?usp=pp_url&entry.113877900=SADIKA_WS \n  \n  \nAIUTACI A PROMUOVERE L’EVENTO. CON IL TUO AIUTO SARA’ ANCORA PIU’ BELLO \n  \n  \n 
URL:https://www.sadika.org/home/events/sadika-femdom-party-with-mistress-army/
LOCATION:Nuova Idea\, Via Alcide de Gasperi 14\, Corsico\, MI\, Italia
CATEGORIES:Sadika Eventi
ATTACH;FMTTYPE=image/png:https://www.sadika.org/home/wp-content/uploads/2024/02/fly1.png
ORGANIZER;CN="Sadika":MAILTO:sadikaeventi@gmail.com
END:VEVENT
BEGIN:VEVENT
DTSTART;TZID=Europe/Rome:20240216T230000
DTEND;TZID=Europe/Rome:20240217T053000
DTSTAMP:20260420T212011
CREATED:20240203T135359Z
LAST-MODIFIED:20240203T143429Z
UID:10000013-1708124400-1708147800@www.sadika.org
SUMMARY:The Cage - Future Techno Fetish Disco Party
DESCRIPTION:SADIKA collaborerà con questo evento nuovo ed incredibile !!!!\nNon mancate !!! \n \n  \nTHE CAGE\nNuovo concept che vuole unire musica e free playing\, offrendovi un posto esclusivo dove essere liberi a 360* \nLocation pazzesca su tre livelli . \nIL DANCEFLOOR\nPer la seconda serata di the Cage\, Tekno Milano ospita Millesuoni Collective\n– Mattia Dambrosio    https://www.instagram.com/mattdambrosio87\n– Luca Scarpa  https://www.instagram.com/lucascarpa7 \nResident DJ\n– Filippo Piazzi     https://www.instagram.com/filippo.piazzi \nPERFORMER & DANCERS \nCon l’esperienza delle nostre performer  riusciremo a farvi fare un viaggio nel mondo del BDSM\nVerrete punzecchiati e ammagliati dalle nostre ammalianti streghe\n– Riri  https://www.instagram.com/ririy.sgh\n– Medusa https://www.instagram.com/medusa.noroi\n– Lisa https://www.instagram.com/ordinary.kaos\nMentre a tenervi fermi e sospesi ci pensata la ns\n– Eva Mzkn \nIL PIANO SUPERIORE\nsarà accessibile solo alle coppie\, incluse quelle formate all’interno del locale.  \nIL PIANO INFERIORE\nsarà invece dedicato al mondo bdsm e per accedervi bisognerà avere una outfit consono.\n. \nLE REGOLE\n– Rispetto\, cortesia e attenzione saranno le regole base!\nSSC Playing\nCome in tutti i nostri eventi le foto sono severamente vietate \, mettiamo la privacy al primo posto . \nDRESSCODE\nElegant – Fetish – BDSM – Leather – Cosplay – Bourleque – Cyber – Goth – Futuristic\nMinimo: Total Black\nNO JEANS / NO ABITI DA STRADA / NO SCARPE DA GINNASTICA \nINDIRIZZO\nClub Milano\nvia privata Pietro Gaggia 22. Milano\n \nORARI\nFrom 23:30 till late \nLISTE\nEssere in lista garantisce l’accesso\nDà diritto a uno sconto\nScade ad un certo orario: dopo la 01 e 30\, le liste chiudono. Se non si arriva entro tale orario le agevolazioni non avranno più effetto.\nE’ possibile mettersi in lista fino ad esaurimento posti disponibili. Il modulo di prenotazione verrà chiuso alle ore 20 del giorno dell’evento\, oppure prima se finiranno i posti.\nDopo la chiusura del modulo non sarà più possibile accedere alle liste.\n \nPREZZI:\nIngresso Fidelity Euro 10\n – se eri presente all’ultimo The Cage \n – prenota con la stessa mail\nIngresso in Lista: Euro 15\nIngresso Fuori Lista: Euro 20 \nINFOLINE/TAVOLI/WHATSAPP (specificare nome evento)\n+393285352697 Marco \nSCOPRI SUBITO TUTTE LE INFORMAZIONI e ACCEDI ALLA LISTA\nQUI:   INFO E LISTE\n#kinky #bdsm #community #italy #slave #master #mistress #bondage \n  \n  \n  \n \n  \n  \n  \n  \n 
URL:https://www.sadika.org/home/events/the-cage-future-techno-fetish-disco-party-2/
LOCATION:Milano Club\, via Privata Pietro Gaggia 22\, Milano\, MI\, Italia
CATEGORIES:Sadika Eventi
ATTACH;FMTTYPE=image/png:https://www.sadika.org/home/wp-content/uploads/2024/02/BaseTheCage5.png
END:VEVENT
BEGIN:VEVENT
DTSTART;TZID=Europe/Rome:20240209T230000
DTEND;TZID=Europe/Rome:20240210T050000
DTSTAMP:20260420T212011
CREATED:20240203T135017Z
LAST-MODIFIED:20240203T142310Z
UID:10000012-1707519600-1707541200@www.sadika.org
SUMMARY:KinKEY - Karnival
DESCRIPTION:SADIKA collaborerà con questo evento nuovo ed incredibile !!!!\nNon mancate !!! \n \n  \n🗝️🗝️🗝️\nKinKEY IS COMING! \n \n🗝️Choose your key and live your experience!🗝️\n \nQuando il clubbing si fonde con il play party è subito KINKEY! \n \n \nScegli la tua chiave e vivi un’esperienza pazzesca\, viaggiando e sperimentando I diversi *GIRONI*\nin un percorso nei meandri di un mondo surreale che ti porterà a scoprire ed APRIRE lo scrigno segreto delle tue emozioni più segrete. \n \nOgni girone sarà controllato e gestito da un PRO-MONITOR che vi accompagnerà per garantirvi la migliore esperienza possibile in modo libero e sicuro! \n \nLE CHIAVI\nAll’ingresso dovrai scegliere la tua KEY 🗝️ \nRED KEY = DOM \nBLUE KEY = SUB \nYELLOW = FETISH\nGREEN = COUPLE \nBLACK = OPEN MIND \nWHITE = RULE AND ESTETIK\n \n \nLE AREE \nMondo Terreno\n– Dance Floor\n– Performance\n– Shibari Show\nPurgatorio\n– Whip Dungeon\n– Glory\n– Dressing Room \nEden\n– Couple Room (accesso solo coppie o invitati da coppie)\n– Trampling Cage\n– DOG Factory Dancers on Human Cubes\nInferi (i GIRONI)\n– Golden-SH\n– Strap-on\n– CBT\n– Clinical\n– Muscle\n– Feet\n– Wax \nI gironi clinical\, wax\, strap-on e golden saranno FREE PLAY\nQualora si volesse giocare basta semplicemente chiedere ad un dungeon monitor (chiave oro) \n\nNOTA BENE:\n– LE CHIAVI E LE AREE NON SONO IN ALCUN MODO COLLEGATE TRA LORO\n– LE CHIAVI IDENTIFICANO IN RUOLO\, IN CARATTERE\, LA NATURA DI CHI LE PORTA\n– LE AREE SONO ZONE DI GIOCO CHE PERMETTONO DI  RAGGRUPPARE GLI AMANTI DI DETERMINATE PRATICHE\, INDIPENDENTEMENTE DAL COLORO DELLA CHIAVE \n\nINGRESSO\nIngresso in lista 30€ \nIngresso fuori lista 40€ \n+\nCHIAVE 10€ ( accesso a tutti i gironi ) \n\ningresso coppia in lista : 30€ TOTALI\nIngresso coppia fuori lista 40€ \n+ \n2 chiavi colorate 20€ ( accesso a tutti i gironi ) \n***********************************************\nLE CHIAVI POTRANNO ESSERE CONSERVATE  \nED UTILIZZATE NELLE SUCCESSIVE EDIZIONI\n*********************************************** \n\n \n\nMUSIC \n\n\nGRAUND FLOOR\nDj SET  Techno – House – Electro\n(a volume contenuto)\n\nINFERI\nDj SET  Soft – Wave – Neo Folk – \n \nSHOW \nA cura di Sadika\, Dog Factory\, Cruel Rabbit  & Guests \n \nREGOLE \nLe regole sono poche e semplici:\n– Rispetto e buona educazione.\n– Gioco Sano Sicuro e Consensuale.\n– Vietato l’uso dei telefonini. vietato fare foto e video.\n– Ciò che succede al KinKEY rimane un segreto da custodire gelosamente.\n– I Dungeon Monitor è lo Staff\, garantiranno la sicurezza e una buona riuscita dell’evento. Non infrangete le loro direttive e seguite i loro consigli. \n– Le chiavi servono a semplificare l’esperienza\, il gioco e la conoscenza\, ma non danno nessun diritto di gioco e nessun obbligo.\n– L’area COPPIE è riservata alle COPPIE e ad eventuali loro invitati\, in loro compagnia.  \nLe chiavi verranno assegnate all’ingresso\, in base alle vostre preferenze.  \nPer poter ottenere la chiave dovrai rispettare delle regole\n– Il nostro selector valuterà se potrai ottenerla o meno \, non basterà il giusto dresscode  \n– MA\, SOPRATUTTO LA CONSAPEVOLEZZA  DELLA TIPOLOGIA DI FESTA È DEL COMPORTAMENTO RISPETTOSO CHE NE CONSEGUE !!! \n \nABBIGLIAMENTO \nNO JEANS / NO ABITI DA STRADA / NO SCARPE DA GINNASTICA \nAPPREZZATISSIMO UN DRESS CODE A TEMA BDSM: Leather\, Latex\, PVC\, Master\, Mistress\, Equitazione\, Stivali\, Puppy\, TG\, Cosplay\, Rule Play\, Collar\, Burlesque\, Etc \nVestitevi a tema fetish\, bdsm\, oppure in modo stravagnate\, elegante. Venite in costume\, ma niente abiti sportivi o street.\nSe proprio non avete fantasia\, almeno vestitevi TOTALMENTE DI NERO\nTotal Black (vestitevi di NERO)\nNO JEANS\, NO FELPE O MAGLIETTE COLORATE\, NO ABBIGLIAMENTO DA STRADA\nNO SCARPE DA GINNASTICA \nI SELECTOR presenti all’ingresso si riservano la facoltà di rimbalzare chi non avrà rispettato il dresscode minimo.  \nQUANLCOSA ANCORA NON TI E’ CHIARO ? \nVISITA LA PAGINA DELLE DOMANDE E RISPOSTE \n\n \n\n\nVenerdì 9 Febbraio 2023 ore 23:00\nClub Milano  – via Privata Pietro Gaggia 22. Milano\nMM3 – Porto di Mare\nTreno – Milano Rogoredo FS\nAutostrada A1 – Tang EST Milano – Uscita San Donato/Metanopoli\n \nClub Milano fa parte del circuito ASX. Per chi fosse sprovvisto di tale tessera\, potrà associarsi direttamente al club\, la sera stessa\, al costo di euro 10\, annuali. \n \n\nKINKEY\n*CHOOSE AND LIVE* \n\n \nSCOPRI SUBITO TUTTE LE INFORMAZIONI e ACCEDI ALLA LISTA\nQUI:   INFO E LISTE\n#kinky #bdsm #community #italy #slave #master #mistress #bondage
URL:https://www.sadika.org/home/events/kinkey-karnival/
LOCATION:Milano Club\, via Privata Pietro Gaggia 22\, Milano\, MI\, Italia
CATEGORIES:Sadika Eventi
ATTACH;FMTTYPE=image/jpeg:https://www.sadika.org/home/wp-content/uploads/2024/02/WhatsApp-Image-2024-01-19-at-12.05.36.jpeg
END:VEVENT
BEGIN:VEVENT
DTSTART;TZID=Europe/Rome:20240126T230000
DTEND;TZID=Europe/Rome:20240127T043000
DTSTAMP:20260420T212011
CREATED:20240102T131705Z
LAST-MODIFIED:20240102T131705Z
UID:10000008-1706310000-1706329800@www.sadika.org
SUMMARY:SADIKA HEROES - COSPLAY FETISH PARTY
DESCRIPTION:  \n \n  \nSADIKA HEROES\nCOSPLAY FETISH PARTY \nVenerdì 26 Gennaio 2024\nFetish – Femdom – BDSM – Feet – Trampling – Shibari \nCorsico – Milano \nDress-Code obbligatorio: Hero – Fetish – BDSM – (minimo) TOTAL BLACK \nLeggi i dettagli e prenota qui:\nhttps://docs.google.com/forms/d/e/1FAIpQLSdX0NhJh-uOEmElijPO5__8QRh5LgLjNuiZfSqaJOit9GVDcg/viewform?usp=pp_url&entry.113877900=SADIKA_WS \n  \n  \nAIUTACI A PROMUOVERE L’EVENTO. CON IL TUO AIUTO SARA’ ANCORA PIU’ BELLO \n  \nUsa la locandina che preferisci. \n 
URL:https://www.sadika.org/home/events/sadika-heroes-cosplay-fetish-party/
LOCATION:Nuova Idea\, Via Alcide de Gasperi 14\, Corsico\, MI\, Italia
CATEGORIES:Sadika Eventi
ATTACH;FMTTYPE=image/jpeg:https://www.sadika.org/home/wp-content/uploads/2024/01/58c5a32c-fe44-446e-904d-0bf61e60ef8f-1.jpg
ORGANIZER;CN="Sadika":MAILTO:sadikaeventi@gmail.com
END:VEVENT
BEGIN:VEVENT
DTSTART;TZID=Europe/Rome:20240120T223000
DTEND;TZID=Europe/Rome:20240121T040000
DTSTAMP:20260420T212011
CREATED:20240113T193258Z
LAST-MODIFIED:20240113T193258Z
UID:10000010-1705789800-1705809600@www.sadika.org
SUMMARY:Welcome Home Trampling Party TORINO
DESCRIPTION:Sabato 20 Gennaio – Torino – dalle 22:30 alle 4:00\nSERATA DEDICATA AL TRAMPLING IN TUTTE LE SUE FORME : \nSoft e “rilassante” fatto a piedi nudi\, bello “aggressivo” fatto con tacchi a spillo o dècolletè condito con salti\, facestanding sicuro grazie alle facebox sempre presenti\, multitrampling\, Trampling acrobatico e tutto ciò che sarà frutto della fantasia delle Miss che ci delizieranno con le loro estremità. Angolo foot fetish attrezzato\, una piacevole novità sia per le Mistress che per gli adoratori dei piedi. Inoltre sarà possibile giocare con la cera e con la frusta. Il Trampling è comunque la pratica principale della serata che è una serata dove ad essere protagoniste saranno le Mistress! Perciò amici Masters e amiche slaves non è una serata che fa per voi; se siete in cerca di una bella serata in cui il gioco Maledom è consentito vi consiglio vivamente il Kinky KingDom \nREGOLE : \nNon avere pretese. Siamo tutti qui per divertirci\, anche le Miss. Nessuno e nessuna è qui per servire te.\nNessun obbligo a partecipazione attiva\, totale libertà nello scegliere la pratica a cui si vuole partecipare e rispetto dei limiti di ogni partecipante all’evento. (Esempio : non vi piace il Trampling con i tacchi non siete obbligati a subirlo).\nIl tutto si deve svolgere nel pieno rispetto di ogni partecipante alla festa e della location che ci ospita in sicurezza e consensualità. IL SESSO è ASSOLUTAMENTE VIETATO. \nPRIVACY : \nLa privacy di tutti deve essere rispettata; non sono\, quindi\, ammesse foto “fai da te”\, ne\, tanto meno\, video. \nRINGRAZIAMENTI : \nCi tengo molto a ringraziare il Sadika per la collaborazione e l’ispirazione continua. L’amicizia e la stima che mi legano a Diego\, il mitico gestore del Sadika\, hanno dato vita a questa entusiasmante collaborazione. \nLA LOCATION : \nLa serata si svolgerà al The Hot; locale con ampio spazio per fare Trampling dotato di gabbie e pali (oltre alle immancabili strutture per il Trampling caratteristiche dei Welcome Home Trampling Party). \nIl locale è\, inoltre\, dotato di sala fumatori interna ed anche di varie stanze in cui sono presenti attrezzature BDSM come croci\, gogne\, gabbie\, candele per la cera\, ecc. Il Trampling rimane comunque il tema principale della serata! \nCompleta il tutto un bar con buffet e parcheggio comodo immediatamente fuori dal locale. \nINDIRIZZO : \nStr. Antica della Venaria\, 64/8\, 10151 Torino TO \nhttps://www.google.com/maps/place/The+Hot+Sexy+Disco+Bar/@45.1030409\,7.6526991\,16z/data=!4m5!3m4!1s0x47886c478a065dc9:0xdb12e862d68ed4b5!8m2!3d45.1031118!4d7.652756 \nORARIO : \nSabato 11 novembre 2023 \nDalle 22:30 alle 4:00 \nPER METTERSI IN LISTA : \nPer metterti in lista utilizza il seguente modulo : \nPer garantire il giusto equilibrio tra Miss e tappetini e per non essere in troppi all’evento è necessario confermare la propria presenza. \nModulo di Prenotazione \nL’ingresso è consentito solo ai maggiorenni. \nIl Dresscode non è obbligatorio\, anche se è fortemente consigliato vestirsi a tema Fetish/BDSM. \nQUOTE DI PARTECIPAZIONE : \n\nMaschio singolo: 50 euro\nCoppia : 30 Euro\nDonna singola: gratis\n\nTessera MSP non inclusa nell’ingresso : 10 euro (per chi non la possiede per l’anno 2024) \nINFO E CONTATTI : \nVisto che ogni volta che creo un evento vengo bloccato su facebook (da qualche invidioso/a rosicone/a) vi lascio anche il mio numero di telefono : 3200528789\nPagina Facebook Welcome Home (https://www.facebook.com/WelcomeHome29/)\nGabriele Orlando (https://www.facebook.com/profile.php?id=100007865324992) \nSee you on the floor
URL:https://www.sadika.org/home/events/welcome-home-trampling-party-torino/
LOCATION:MI
ATTACH;FMTTYPE=image/jpeg:https://www.sadika.org/home/wp-content/uploads/2024/01/409858682_275753718814676_978922754584430484_n-768x432-1.jpg
END:VEVENT
BEGIN:VEVENT
DTSTART;TZID=Europe/Rome:20240119T230000
DTEND;TZID=Europe/Rome:20240120T050000
DTSTAMP:20260420T212011
CREATED:20240113T192902Z
LAST-MODIFIED:20240113T192902Z
UID:10000009-1705705200-1705726800@www.sadika.org
SUMMARY:The Cage - Future Techno Fetish Disco Party
DESCRIPTION:SADIKA collaborerà con questo evento nuovo ed incredibile !!!!\nNon mancate !!! \n \n  \nTHE CAGE\nNuovo concept che vuole unire musica e free playing\, offrendovi un posto esclusivo dove essere liberi a 360* \nLocation pazzesca su tre livelli . \nIL DANCEFLOOR\nsarà aperto a tutti.\nA farvi vibrare ci penseranno 2 artisti di grande rilievo:\nLilly Korine e Mr Fiction\nDancers & Tramplers:\nMedusa e Riri   on   The Uman Cubes \n \nIL PIANO SUPERIORE \nsarà accessibile solo alle coppie\, incluse quelle formate all’interno del locale.  \nIL PIANO INFERIORE\nsarà invece dedicato al mondo bdsm e per accedervi bisognerà avere una outfit consono. \nLE PERFORMANCE\nsaranno curate da Eva Medea e Eva Mzkn\nCon la loro esperienza riusciranno a farvi fare un viaggio nel mondo del BDSM. \nLE REGOLE\n– Rispetto\, cortesia e attenzione saranno le regole base!\n– SSC Playing\n– Come in tutti i nostri eventi le foto sono severamente vietate \, mettiamo la privacy al primo posto . \n\nDRESSCODE \n– Elegant – Fetish – BDSM – Leather – Cosplay – Bourleque – Cyber – Goth – Futuristic \n– Minimo: Total Black\n– NO JEANS / NO ABITI DA STRADA / NO SCARPE DA GINNASTICA \nINDIRIZZO\nClub Milano\nvia privata Pietro Gaggia 22. Milano \n  \nORARI\nFrom 23:00 till late\n  \nLISTE\n– Essere in lista garantisce l’accesso\n– Dà diritto a uno sconto\n– Scade ad un certo orario\n   dopo mezzanotte e 30\, le liste chiudono. Se non si arriva entro tale orario \n   le agevolazioni non avranno più effetto.\n– E’ possibile mettersi in lista fino ad esaurimento posti disponibili. Il modulo di prenotazione verrà chiuso alle ore 18 del giorno dell’evento\, oppure prima se finiranno i posti. Dopo la chiusura del modulo non sarà più possibile accedere alle liste. \n  \nPREZZI:\nIngresso in Lista: Euro 15 \nIngresso Fuori Lista: Euro 20  \nOFFERTA SPECIALI\nINGRESSO GRATUITO\n-🗝️ PER TUTTI COLORO CHE POSSEGGONO LA CHIAVE KinKEY  🗝️\n– ❤️ PER TUTTI I PARTECIPANTI DELLA FESTA SADIKA DEL 22/12/2023 ❤️ \nTAVOLI\n150€ bollicine – 200€ distillato – Max 4 persone \nINFOLINE/TAVOLI/WHATSAPP (specificare nome evento)\n+393285352697 Marco \nSCOPRI SUBITO TUTTE LE INFORMAZIONI e ACCEDI ALLA LISTA\nQUI:   INFO E LISTE\n#kinky #bdsm #community #italy #slave #master #mistress #bondage \n  \n  \n \n  \n \n  \n \n 
URL:https://www.sadika.org/home/events/the-cage-future-techno-fetish-disco-party/
LOCATION:Milano Club\, via Privata Pietro Gaggia 22\, Milano\, MI\, Italia
CATEGORIES:Sadika Eventi
ATTACH;FMTTYPE=image/jpeg:https://www.sadika.org/home/wp-content/uploads/2024/01/WhatsApp-Image-2024-01-11-at-10.42.34-1.jpeg
END:VEVENT
BEGIN:VEVENT
DTSTART;TZID=Europe/Rome:20240112T230000
DTEND;TZID=Europe/Rome:20240113T050000
DTSTAMP:20260420T212011
CREATED:20231228T185223Z
LAST-MODIFIED:20231228T185223Z
UID:10000007-1705100400-1705122000@www.sadika.org
SUMMARY:KinKEY
DESCRIPTION:SADIKA collaborerà con questo evento nuovo ed incredibile !!!!\nNon mancate !!! \n \n  \n🗝️🗝️🗝️\nKinKEY IS COMING! \n🗝️Choose your key and live your experience!🗝️ \nVENERDI’ GENNAIO ore 23 – MILANO \n☝️IMPORTANTI NOVITÀ \n🗝️🗝️🗝️Scegli la tua chiave e vivi un’esperienza pazzesca\, viaggiando e sperimentando I diversi GIRONI\nin un percorso nei meandri di un mondo surreale che ti porterà a scoprire ed APRIRE lo scrigno segreto delle emozioni più profonde. \nSCOPRI SUBITO TUTTE LE INFORMAZIONI e ACCEDI ALLA LISTA\nQUI:   INFO E LISTE\n#kinky #bdsm #community #italy #slave #master #mistress #bondage
URL:https://www.sadika.org/home/events/kinkey/
LOCATION:Milano Club\, via Privata Pietro Gaggia 22\, Milano\, MI\, Italia
CATEGORIES:Sadika Eventi
ATTACH;FMTTYPE=image/jpeg:https://www.sadika.org/home/wp-content/uploads/2023/12/WhatsApp-Image-2023-12-28-at-19.00.38.jpeg
END:VEVENT
BEGIN:VEVENT
DTSTART;TZID=Europe/Rome:20231222T230000
DTEND;TZID=Europe/Rome:20231223T043000
DTSTAMP:20260420T212011
CREATED:20231204T101318Z
LAST-MODIFIED:20231204T101448Z
UID:10000006-1703286000-1703305800@www.sadika.org
SUMMARY:THE FETISH CHRISTMAS
DESCRIPTION:  \n \n  \nTHE FETISH CHRISTMAS \nVenerdì 22 Dicembre – from 23 \nSHOW – DJ – ROCK – ELECTRO – DARK ROOMS\nFETISH – BDSM – TRAMPLING – FEET – FEMDOM – SHIBARI \nCorsico – Milano \nDress-Code obbligatorio: Horror – Fetish – BDSM – Christmas\nTotal Black – Total White – Total Red \nLeggi i dettagli e prenota qui:\nhttps://docs.google.com/forms/d/e/1FAIpQLSdX0NhJh-uOEmElijPO5__8QRh5LgLjNuiZfSqaJOit9GVDcg/viewform?usp=pp_url&entry.113877900=SADIKA_ws \n  \n  \n 
URL:https://www.sadika.org/home/events/the-fetish-christmas/
LOCATION:Nuova Idea\, Via Alcide de Gasperi 14\, Corsico\, MI\, Italia
CATEGORIES:Sadika Eventi
ATTACH;FMTTYPE=image/jpeg:https://www.sadika.org/home/wp-content/uploads/2023/12/WhatsApp-Image-2023-12-04-at-08.12.23.jpeg
ORGANIZER;CN="Sadika":MAILTO:sadikaeventi@gmail.com
END:VEVENT
BEGIN:VEVENT
DTSTART;TZID=Europe/Rome:20231201T230000
DTEND;TZID=Europe/Rome:20231202T230000
DTSTAMP:20260420T212011
CREATED:20231122T123516Z
LAST-MODIFIED:20231122T123516Z
UID:10000005-1701471600-1701558000@www.sadika.org
SUMMARY:KinKEY - NUOVO EVENTO !!!
DESCRIPTION:SADIKA collaborerà con questo evento nuovo ed incredibile !!!!\nNon mancate !!! \n  \n \n🗝️🗝️🗝️\nKinKEY IS COMING! \n🗝️Choose your key and live your experience!🗝️ \nVENERDI’ 1 DICEMBRE ore 23 – MILANO \nQuando il clubbing si fonde con il play party è subito KINKEY! \n🗝️🗝️🗝️Scegli la tua chiave e vivi un’esperienza pazzesca\, viaggiando e sperimentando I diversi GIRONI\nin un percorso nei meandri di un mondo surreale che ti porterà a scoprire ed APRIRE lo scrigno segreto delle emozioni più profonde. \nSCOPRI SUBITO TUTTE LE INFORMAZIONI e ACCEDI ALLA LISTA\nQUI:   INFO E LISTE\n#kinky #bdsm #community #italy #slave #master #mistress #bondage
URL:https://www.sadika.org/home/events/kinkey-nuovo-evento/
LOCATION:Milano Club\, via Privata Pietro Gaggia 22\, Milano\, MI\, Italia
CATEGORIES:Sadika Eventi
ATTACH;FMTTYPE=image/jpeg:https://www.sadika.org/home/wp-content/uploads/2023/11/76ca55d5-afd5-439d-af7d-8f0d9296798c.jpg
END:VEVENT
BEGIN:VEVENT
DTSTART;TZID=Europe/Rome:20231117T230000
DTEND;TZID=Europe/Rome:20231118T043000
DTSTAMP:20260420T212011
CREATED:20231102T084312Z
LAST-MODIFIED:20231102T084312Z
UID:10000004-1700262000-1700281800@www.sadika.org
SUMMARY:SADIKA HORROR FETISH PARTY
DESCRIPTION:  \n \n  \nSADIKA HORROR\nVenerdì 17 Novembre \nFetish – Femdom – BDSM – Feet – Trampling – Shibari \nCorsico – Milano \nDress-Code obbligatorio: Horror – Fetish – BDSM – (minimo) TOTAL BLACK \nLeggi i dettagli e prenota qui:\nhttps://docs.google.com/forms/d/e/1FAIpQLSdX0NhJh-uOEmElijPO5__8QRh5LgLjNuiZfSqaJOit9GVDcg/viewform?usp=pp_url&entry.113877900=SADIKA_NL \n  \n  \n 
URL:https://www.sadika.org/home/events/sadika-horror-fetish-party/
LOCATION:Nuova Idea\, Via Alcide de Gasperi 14\, Corsico\, MI\, Italia
CATEGORIES:Sadika Eventi
ATTACH;FMTTYPE=image/jpeg:https://www.sadika.org/home/wp-content/uploads/2023/11/WhatsApp-Image-2023-10-31-at-00.05.56.jpeg
ORGANIZER;CN="Sadika":MAILTO:sadikaeventi@gmail.com
END:VEVENT
BEGIN:VEVENT
DTSTART;TZID=Europe/Rome:20231020T220000
DTEND;TZID=Europe/Rome:20231021T040000
DTSTAMP:20260420T212011
CREATED:20231009T233241Z
LAST-MODIFIED:20231009T233725Z
UID:10000003-1697839200-1697860800@www.sadika.org
SUMMARY:FITNESS GIRLS - FETISH - TRAMPLING - FEMDOM - BDSM - PARTY
DESCRIPTION:Venerdì 20 Ottobre ore 22 \nSADIKA FETISH PARTY \nFitness Girls\nFootFetish – Trampling – BDSM – FEMDOM \nSPECIAL EVENT\nNew Location \nINFO E LISTE : QUI\n  \n  \n 
URL:https://www.sadika.org/home/events/fitness-girls-fetish-trampling-femdom-bdsm-party/
LOCATION:Milano Club\, via Privata Pietro Gaggia 22\, Milano\, MI\, Italia
CATEGORIES:Sadika Eventi
ATTACH;FMTTYPE=image/jpeg:https://www.sadika.org/home/wp-content/uploads/2023/10/WhatsApp-Image-2023-10-09-at-16.08.34.jpeg
ORGANIZER;CN="Sadika":MAILTO:sadikaeventi@gmail.com
END:VEVENT
BEGIN:VEVENT
DTSTART;TZID=Europe/Rome:20230922T230000
DTEND;TZID=Europe/Rome:20230923T230000
DTSTAMP:20260420T212011
CREATED:20230830T165940Z
LAST-MODIFIED:20230830T165940Z
UID:10000002-1695423600-1695510000@www.sadika.org
SUMMARY:SADISTIC BARBIES - Sadika Fetish Party - New Season
DESCRIPTION:SADIKA FETISH PARTY\nSADISTIC BARBIE\n(new season) \nVenerdì 22 Settembre\nCorsico – Milano \nDress-Code obbligatorio – Sconto in rosa o fucsia \nLeggi i dettagli e prenota qui:\nhttps://docs.google.com/forms/d/e/1FAIpQLSdX0NhJh-uOEmElijPO5__8QRh5LgLjNuiZfSqaJOit9GVDcg/viewform?usp=pp_url&entry.113877900=Sadika_web \n 
URL:https://www.sadika.org/home/events/sadistic-barbies-sadika-fetish-party-new-season/
LOCATION:Baraonda\, via Alcide De Gasperi 14\, Corsico\, Milano\, 20094\, Italia
CATEGORIES:Sadika Eventi
ATTACH;FMTTYPE=image/jpeg:https://www.sadika.org/home/wp-content/uploads/2023/08/WhatsApp-Image-2023-08-25-at-01.26.47.jpeg
ORGANIZER;CN="Sadika":MAILTO:sadikaeventi@gmail.com
END:VEVENT
BEGIN:VEVENT
DTSTART;TZID=Europe/Rome:20230211T230000
DTEND;TZID=Europe/Rome:20230212T230000
DTSTAMP:20260420T212011
CREATED:20230203T083254Z
LAST-MODIFIED:20230203T084841Z
UID:10000001-1676156400-1676242800@www.sadika.org
SUMMARY:DOUBLE SOUL
DESCRIPTION:comunicato ai soci \nDOUBLE SOUL \n  \n  \nSOUL GARDEN + TERAPYKA\nBLISS CLUB – RHO – MILANO\n \nSABATO 11 FEBBRAIO 2023\nFROM 23:00 TO 5:00 \n  \n  \nIN BREVE: SERATA TECHNO HOUSE CON SPETTACOLI FETISH BDSM E ANIMAZIONE \nTerapyka in partnership con Soul Garden presentano: \nSabato 11 Febbraio 2023 \nDalle 23 alle 5 \nIngresso 20€ con drink in lista \nIngresso 20€ senza drink alla porta \nOmaggio Donna entro 00:00 in lista \nMusic by ? \nMrCloud/Mikelangelo/James Ci / Maxim / Gasu \nAnimazione Fetish/Bdsm a cura di DogFactory e Sadika \n  \nLISTA: \nhttps://docs.google.com/forms/d/e/1FAIpQLSehHMJV_x5ei4JtoGjmcg4MgxLPj8cKtyGbLpJ5t4UTG_6AWA/viewform?usp=pp_url&entry.1343749462=SADIKA \n  \nINFO:\nsadikaeventi@gmail.com \n  \nLEGENDA \n\n\n\n\nBAR \nSI\n\nDANCE FLOOR \nSI\n\nAREA CLINICAL \nNO\n\nDARK ROOM \nNO\n\n\n\n DJ SET \nSI\n\nDRESS COOE \nNO\n\nDUNGEON ATTREZZATO \nNO\n\nPLAY PARTY \nNO \n\n\n\nFIDELITY \nNO \n\nFOTOGRAFO UFFICIALE \nSI \n\nAREA FUMATORI \nSI\n\nSHOW:\nSPETTACOLI BDSM E ANIMAZIONE FETISH\n\n\n \n \n \n PRENOTAZIONE FORTEMENTE CONSIGLIATA \n \n \n\nPREZZI \nDA 0 A 20 \n\n\n\n  \n  \n  \n  \n \n 
URL:https://www.sadika.org/home/events/double-soul/
LOCATION:Bliss Club Milano\, via F. Borromeo 2\, Rho\, MI\, Italia
CATEGORIES:Sadika Eventi
ATTACH;FMTTYPE=image/jpeg:https://www.sadika.org/home/wp-content/uploads/2023/02/9872a7e3-ec8b-48f3-a961-86d3780adc86.jpeg
ORGANIZER;CN="Sadika + Soul Garden + Terapyka + Dog Factory":MAILTO:sadikaevento@gmail.com
END:VEVENT
END:VCALENDAR