BEGIN:VCALENDAR
VERSION:2.0
PRODID:-//Sadika Femdom Club - ECPv6.15.18//NONSGML v1.0//EN
CALSCALE:GREGORIAN
METHOD:PUBLISH
X-WR-CALNAME:Sadika Femdom Club
X-ORIGINAL-URL:https://www.sadika.org/home
X-WR-CALDESC:Eventi per Sadika Femdom Club
REFRESH-INTERVAL;VALUE=DURATION:PT1H
X-Robots-Tag:noindex
X-PUBLISHED-TTL:PT1H
BEGIN:VTIMEZONE
TZID:Europe/Rome
BEGIN:DAYLIGHT
TZOFFSETFROM:+0100
TZOFFSETTO:+0200
TZNAME:CEST
DTSTART:20220327T010000
END:DAYLIGHT
BEGIN:STANDARD
TZOFFSETFROM:+0200
TZOFFSETTO:+0100
TZNAME:CET
DTSTART:20221030T010000
END:STANDARD
BEGIN:DAYLIGHT
TZOFFSETFROM:+0100
TZOFFSETTO:+0200
TZNAME:CEST
DTSTART:20230326T010000
END:DAYLIGHT
BEGIN:STANDARD
TZOFFSETFROM:+0200
TZOFFSETTO:+0100
TZNAME:CET
DTSTART:20231029T010000
END:STANDARD
BEGIN:DAYLIGHT
TZOFFSETFROM:+0100
TZOFFSETTO:+0200
TZNAME:CEST
DTSTART:20240331T010000
END:DAYLIGHT
BEGIN:STANDARD
TZOFFSETFROM:+0200
TZOFFSETTO:+0100
TZNAME:CET
DTSTART:20241027T010000
END:STANDARD
END:VTIMEZONE
BEGIN:VEVENT
DTSTART;TZID=Europe/Rome:20231020T220000
DTEND;TZID=Europe/Rome:20231021T040000
DTSTAMP:20260421T015033
CREATED:20231009T233241Z
LAST-MODIFIED:20231009T233725Z
UID:10000003-1697839200-1697860800@www.sadika.org
SUMMARY:FITNESS GIRLS - FETISH - TRAMPLING - FEMDOM - BDSM - PARTY
DESCRIPTION:Venerdì 20 Ottobre ore 22 \nSADIKA FETISH PARTY \nFitness Girls\nFootFetish – Trampling – BDSM – FEMDOM \nSPECIAL EVENT\nNew Location \nINFO E LISTE : QUI\n  \n  \n 
URL:https://www.sadika.org/home/events/fitness-girls-fetish-trampling-femdom-bdsm-party/
LOCATION:Milano Club\, via Privata Pietro Gaggia 22\, Milano\, MI\, Italia
CATEGORIES:Sadika Eventi
ATTACH;FMTTYPE=image/jpeg:https://www.sadika.org/home/wp-content/uploads/2023/10/WhatsApp-Image-2023-10-09-at-16.08.34.jpeg
ORGANIZER;CN="Sadika":MAILTO:sadikaeventi@gmail.com
END:VEVENT
BEGIN:VEVENT
DTSTART;TZID=Europe/Rome:20230922T230000
DTEND;TZID=Europe/Rome:20230923T230000
DTSTAMP:20260421T015033
CREATED:20230830T165940Z
LAST-MODIFIED:20230830T165940Z
UID:10000002-1695423600-1695510000@www.sadika.org
SUMMARY:SADISTIC BARBIES - Sadika Fetish Party - New Season
DESCRIPTION:SADIKA FETISH PARTY\nSADISTIC BARBIE\n(new season) \nVenerdì 22 Settembre\nCorsico – Milano \nDress-Code obbligatorio – Sconto in rosa o fucsia \nLeggi i dettagli e prenota qui:\nhttps://docs.google.com/forms/d/e/1FAIpQLSdX0NhJh-uOEmElijPO5__8QRh5LgLjNuiZfSqaJOit9GVDcg/viewform?usp=pp_url&entry.113877900=Sadika_web \n 
URL:https://www.sadika.org/home/events/sadistic-barbies-sadika-fetish-party-new-season/
LOCATION:Baraonda\, via Alcide De Gasperi 14\, Corsico\, Milano\, 20094\, Italia
CATEGORIES:Sadika Eventi
ATTACH;FMTTYPE=image/jpeg:https://www.sadika.org/home/wp-content/uploads/2023/08/WhatsApp-Image-2023-08-25-at-01.26.47.jpeg
ORGANIZER;CN="Sadika":MAILTO:sadikaeventi@gmail.com
END:VEVENT
BEGIN:VEVENT
DTSTART;TZID=Europe/Rome:20230211T230000
DTEND;TZID=Europe/Rome:20230212T230000
DTSTAMP:20260421T015033
CREATED:20230203T083254Z
LAST-MODIFIED:20230203T084841Z
UID:10000001-1676156400-1676242800@www.sadika.org
SUMMARY:DOUBLE SOUL
DESCRIPTION:comunicato ai soci \nDOUBLE SOUL \n  \n  \nSOUL GARDEN + TERAPYKA\nBLISS CLUB – RHO – MILANO\n \nSABATO 11 FEBBRAIO 2023\nFROM 23:00 TO 5:00 \n  \n  \nIN BREVE: SERATA TECHNO HOUSE CON SPETTACOLI FETISH BDSM E ANIMAZIONE \nTerapyka in partnership con Soul Garden presentano: \nSabato 11 Febbraio 2023 \nDalle 23 alle 5 \nIngresso 20€ con drink in lista \nIngresso 20€ senza drink alla porta \nOmaggio Donna entro 00:00 in lista \nMusic by ? \nMrCloud/Mikelangelo/James Ci / Maxim / Gasu \nAnimazione Fetish/Bdsm a cura di DogFactory e Sadika \n  \nLISTA: \nhttps://docs.google.com/forms/d/e/1FAIpQLSehHMJV_x5ei4JtoGjmcg4MgxLPj8cKtyGbLpJ5t4UTG_6AWA/viewform?usp=pp_url&entry.1343749462=SADIKA \n  \nINFO:\nsadikaeventi@gmail.com \n  \nLEGENDA \n\n\n\n\nBAR \nSI\n\nDANCE FLOOR \nSI\n\nAREA CLINICAL \nNO\n\nDARK ROOM \nNO\n\n\n\n DJ SET \nSI\n\nDRESS COOE \nNO\n\nDUNGEON ATTREZZATO \nNO\n\nPLAY PARTY \nNO \n\n\n\nFIDELITY \nNO \n\nFOTOGRAFO UFFICIALE \nSI \n\nAREA FUMATORI \nSI\n\nSHOW:\nSPETTACOLI BDSM E ANIMAZIONE FETISH\n\n\n \n \n \n PRENOTAZIONE FORTEMENTE CONSIGLIATA \n \n \n\nPREZZI \nDA 0 A 20 \n\n\n\n  \n  \n  \n  \n \n 
URL:https://www.sadika.org/home/events/double-soul/
LOCATION:Bliss Club Milano\, via F. Borromeo 2\, Rho\, MI\, Italia
CATEGORIES:Sadika Eventi
ATTACH;FMTTYPE=image/jpeg:https://www.sadika.org/home/wp-content/uploads/2023/02/9872a7e3-ec8b-48f3-a961-86d3780adc86.jpeg
ORGANIZER;CN="Sadika + Soul Garden + Terapyka + Dog Factory":MAILTO:sadikaevento@gmail.com
END:VEVENT
END:VCALENDAR