BEGIN:VCALENDAR
VERSION:2.0
PRODID:-//Sadika Femdom Club - ECPv6.15.18//NONSGML v1.0//EN
CALSCALE:GREGORIAN
METHOD:PUBLISH
X-ORIGINAL-URL:https://www.sadika.org/home
X-WR-CALDESC:Eventi per Sadika Femdom Club
REFRESH-INTERVAL;VALUE=DURATION:PT1H
X-Robots-Tag:noindex
X-PUBLISHED-TTL:PT1H
BEGIN:VTIMEZONE
TZID:Europe/Rome
BEGIN:DAYLIGHT
TZOFFSETFROM:+0100
TZOFFSETTO:+0200
TZNAME:CEST
DTSTART:20250330T010000
END:DAYLIGHT
BEGIN:STANDARD
TZOFFSETFROM:+0200
TZOFFSETTO:+0100
TZNAME:CET
DTSTART:20251026T010000
END:STANDARD
BEGIN:DAYLIGHT
TZOFFSETFROM:+0100
TZOFFSETTO:+0200
TZNAME:CEST
DTSTART:20260329T010000
END:DAYLIGHT
BEGIN:STANDARD
TZOFFSETFROM:+0200
TZOFFSETTO:+0100
TZNAME:CET
DTSTART:20261025T010000
END:STANDARD
BEGIN:DAYLIGHT
TZOFFSETFROM:+0100
TZOFFSETTO:+0200
TZNAME:CEST
DTSTART:20270328T010000
END:DAYLIGHT
BEGIN:STANDARD
TZOFFSETFROM:+0200
TZOFFSETTO:+0100
TZNAME:CET
DTSTART:20271031T010000
END:STANDARD
END:VTIMEZONE
BEGIN:VEVENT
DTSTART;TZID=Europe/Rome:20260419T190000
DTEND;TZID=Europe/Rome:20260419T233000
DTSTAMP:20260421T080703
CREATED:20260327T094938Z
LAST-MODIFIED:20260327T100020Z
UID:10000112-1776625200-1776641400@www.sadika.org
SUMMARY:AITCH - MUNCH & ROCK NIGHT
DESCRIPTION:AITCH\nDomenica 19 aprile alla Cripta Club nasce AITCH\, la domenica con la grande “H” che unisce musica\, socialità\, cultura\, cibo e divertimento in un unico evento alternativo. \nDalle ore 19 ti aspetta un Munch informale con aperitivo a buffet\, talk show dal vivo e podcast in streaming curato da Cripta\, Metal Academy\, Black Circus e Sadika\, per incontrarsi\, raccontarsi e conoscere la scena in un ambiente sicuro e inclusivo. \nDalle 21 AITCH esplode in pista con il DJ set rock\, metal\, wave e alternative di DJ Lexx e DJ Nichilismo\, tra riff pesanti\, atmosfere dark e tanta voglia di ballare. \nIngresso inaugurazione: 10 € con drink\, tessera ACSI obbligatoria\, alla Cripta Club – Via Giuseppe Zucchi 39G\, Cusano Milanino (MI).
URL:https://www.sadika.org/home/events/aitch-munch-rock-night/
LOCATION:La Cripta\, via Zucchi 39g\, Cusano Milanino\, MI\, 20095\, Italy
CATEGORIES:Sadika Eventi
ATTACH;FMTTYPE=image/png:https://www.sadika.org/home/wp-content/uploads/2026/03/fly-6.png
ORGANIZER;CN="Sadika":MAILTO:sadikaeventi@gmail.com
END:VEVENT
END:VCALENDAR