BEGIN:VCALENDAR
VERSION:2.0
PRODID:-//Sadika Femdom Club - ECPv6.15.18//NONSGML v1.0//EN
CALSCALE:GREGORIAN
METHOD:PUBLISH
X-WR-CALNAME:Sadika Femdom Club
X-ORIGINAL-URL:https://www.sadika.org/home
X-WR-CALDESC:Eventi per Sadika Femdom Club
REFRESH-INTERVAL;VALUE=DURATION:PT1H
X-Robots-Tag:noindex
X-PUBLISHED-TTL:PT1H
BEGIN:VTIMEZONE
TZID:Europe/Rome
BEGIN:DAYLIGHT
TZOFFSETFROM:+0100
TZOFFSETTO:+0200
TZNAME:CEST
DTSTART:20240331T010000
END:DAYLIGHT
BEGIN:STANDARD
TZOFFSETFROM:+0200
TZOFFSETTO:+0100
TZNAME:CET
DTSTART:20241027T010000
END:STANDARD
BEGIN:DAYLIGHT
TZOFFSETFROM:+0100
TZOFFSETTO:+0200
TZNAME:CEST
DTSTART:20250330T010000
END:DAYLIGHT
BEGIN:STANDARD
TZOFFSETFROM:+0200
TZOFFSETTO:+0100
TZNAME:CET
DTSTART:20251026T010000
END:STANDARD
BEGIN:DAYLIGHT
TZOFFSETFROM:+0100
TZOFFSETTO:+0200
TZNAME:CEST
DTSTART:20260329T010000
END:DAYLIGHT
BEGIN:STANDARD
TZOFFSETFROM:+0200
TZOFFSETTO:+0100
TZNAME:CET
DTSTART:20261025T010000
END:STANDARD
END:VTIMEZONE
BEGIN:VEVENT
DTSTART;TZID=Europe/Rome:20250319T170000
DTEND;TZID=Europe/Rome:20250319T200000
DTSTAMP:20260420T221004
CREATED:20250307T173406Z
LAST-MODIFIED:20250307T184045Z
UID:10000070-1742403600-1742414400@www.sadika.org
SUMMARY:MISTRESS ARMY - FITNESS FETISH PARTY
DESCRIPTION:  \n \nRipartono gli eventi Fetish e Femdom di Mistress Army\n*L’evento non è organizzato da SADIKA. \nFITNESS FETISH PARTY\n\n\n3 ore di puro FETISH con 4 Dee d’eccezione \nEvento privato dedicato al FITNESS FETISH\,\ntrampling\, piedi\, calzini e ascelle sudate\, yoga & facesitting. \nMERCOLEDÌ 19 MARZO\nDALLE 17 ALLE 20 \nMistress Army events\nwww.MistressArmy.com\nmistressarmy@gmail.com \nMODULO DI PRENOTAZIONE \n  \n\n  \n\n  \n  \n  \n    
URL:https://www.sadika.org/home/events/mistress-army-feitness-fetish-party/
LOCATION:Black Whip Studio\, Viale Milano 7\, Cologno Monzese\, MI\, 20093\, Italia
CATEGORIES:Partners
ATTACH;FMTTYPE=image/jpeg:https://www.sadika.org/home/wp-content/uploads/2025/03/1.jpg
ORGANIZER;CN="Mistress Army":MAILTO:mistressarmy@gmail.com
END:VEVENT
BEGIN:VEVENT
DTSTART;TZID=Europe/Rome:20250319T170000
DTEND;TZID=Europe/Rome:20250319T200000
DTSTAMP:20260420T221004
CREATED:20250307T173817Z
LAST-MODIFIED:20250307T173817Z
UID:10000071-1742403600-1742414400@www.sadika.org
SUMMARY:MISTRESS ARMY - INTERROGATORIO FEMDOM
DESCRIPTION:  \n \nRipartono gli eventi Fetish e Femdom di Mistress Army\n*L’evento non è organizzato da SADIKA. \nINTERROGATORIO FEMDOM\n\n\n3 ore di puro FEMDOM con 4 Dee d’eccezione \nEvento privato dedicato al BDSM FEMDOM\nUn gioco BDSM suggestivo\, dove verrai interrogato da 4 soldatesse bellissime e spietate\nSi giocheranno 3 manche nelle quali dovrai riuscire a custodire 3 segreti\, che le sadiche aguzine cercheranno di estorcerti. \n  \nMERCOLEDÌ 19 MARZO\nDALLE 21 ALLE 24 \nMistress Army events\nwww.MistressArmy.com\nmistressarmy@gmail.com \nMODULO DI PRENOTAZIONE \n  \n\n  \n\n  \n  \n  \n    
URL:https://www.sadika.org/home/events/mistress-army-interrogatorio-femdom/
LOCATION:Black Whip Studio\, Viale Milano 7\, Cologno Monzese\, MI\, 20093\, Italia
CATEGORIES:Partners
ATTACH;FMTTYPE=image/jpeg:https://www.sadika.org/home/wp-content/uploads/2025/03/2.jpg
ORGANIZER;CN="Mistress Army":MAILTO:mistressarmy@gmail.com
END:VEVENT
END:VCALENDAR